BEGIN:VCALENDAR
VERSION:2.0
PRODID:-//Sophie Rakoto - ECPv6.15.20//NONSGML v1.0//EN
CALSCALE:GREGORIAN
METHOD:PUBLISH
X-WR-CALNAME:Sophie Rakoto
X-ORIGINAL-URL:https://www.sophierakoto.com
X-WR-CALDESC:Évènements pour Sophie Rakoto
REFRESH-INTERVAL;VALUE=DURATION:PT1H
X-Robots-Tag:noindex
X-PUBLISHED-TTL:PT1H
BEGIN:VTIMEZONE
TZID:UTC
BEGIN:STANDARD
TZOFFSETFROM:+0000
TZOFFSETTO:+0000
TZNAME:UTC
DTSTART:20190101T000000
END:STANDARD
END:VTIMEZONE
BEGIN:VEVENT
DTSTART;TZID=UTC:20200309T100000
DTEND;TZID=UTC:20250309T113000
DTSTAMP:20260424T200322
CREATED:20150716T094936Z
LAST-MODIFIED:20160623T060422Z
UID:5717-1583748000-1741519800@www.sophierakoto.com
SUMMARY:Be a Family for Healthy Living
DESCRIPTION:Nulla sagittis arcu et risus eleifend eleifend. Integer id maximus nibh. Sed non enim fringilla\, mollis ex non\, vestibulum neque. Sed non lacus nisl. Pellentesque lobortis risus in convallis tempor. Cras ultricies lectus sit amet est convallis rutrum. Praesent non ultrices nibh\, a interdum sem. Nulla dui ligula\, malesuada sed ante a\, scelerisque tristique nibh. Vivamus nec dapibus dui. Maecenas non cursus metus. \nSed non enim fringilla\, mollis ex non\, vestibulum neque. Sed non lacus nisl. Pellentesque lobortis risus in convallis tempor. Cras ultricies lectus sit amet est convallis rutrum. Praesent non ultrices nibh\, a interdum sem. Nulla dui ligula\, malesuada sed ante a\, scelerisque tristique nibh. Vivamus nec dapibus dui. Maecenas non cursus metus.
URL:https://www.sophierakoto.com/event/be-a-family-for-healthy-living/
LOCATION:Houston\, Texas\, Avalanche\, Ooty\, 87455\, India
CATEGORIES:Discussion,Experiments,Life Style
ATTACH;FMTTYPE=image/jpeg:https://www.sophierakoto.com/wp-content/uploads/2015/07/event3.jpg
ORGANIZER;CN="Matthew Kate":MAILTO:ram@iamd.com
END:VEVENT
END:VCALENDAR